BEGIN:VCALENDAR
VERSION:2.0
PRODID:-//Charities2Love - ECPv6.15.20//NONSGML v1.0//EN
CALSCALE:GREGORIAN
METHOD:PUBLISH
X-WR-CALNAME:Charities2Love
X-ORIGINAL-URL:https://charities2love.org
X-WR-CALDESC:Events for Charities2Love
REFRESH-INTERVAL;VALUE=DURATION:PT1H
X-Robots-Tag:noindex
X-PUBLISHED-TTL:PT1H
BEGIN:VTIMEZONE
TZID:America/Chicago
BEGIN:DAYLIGHT
TZOFFSETFROM:-0600
TZOFFSETTO:-0500
TZNAME:CDT
DTSTART:20240310T080000
END:DAYLIGHT
BEGIN:STANDARD
TZOFFSETFROM:-0500
TZOFFSETTO:-0600
TZNAME:CST
DTSTART:20241103T070000
END:STANDARD
BEGIN:DAYLIGHT
TZOFFSETFROM:-0600
TZOFFSETTO:-0500
TZNAME:CDT
DTSTART:20250309T080000
END:DAYLIGHT
BEGIN:STANDARD
TZOFFSETFROM:-0500
TZOFFSETTO:-0600
TZNAME:CST
DTSTART:20251102T070000
END:STANDARD
BEGIN:DAYLIGHT
TZOFFSETFROM:-0600
TZOFFSETTO:-0500
TZNAME:CDT
DTSTART:20260308T080000
END:DAYLIGHT
BEGIN:STANDARD
TZOFFSETFROM:-0500
TZOFFSETTO:-0600
TZNAME:CST
DTSTART:20261101T070000
END:STANDARD
END:VTIMEZONE
BEGIN:VEVENT
DTSTART;TZID=America/Chicago:20250228T160000
DTEND;TZID=America/Chicago:20250228T180000
DTSTAMP:20260425T145206
CREATED:20250226T153351Z
LAST-MODIFIED:20250226T153354Z
UID:48336-1740758400-1740765600@charities2love.org
SUMMARY:Hearts Meets Hands (Private\, Student-Led Volunteer Event)
DESCRIPTION:Hearts Meets Hands\, a student-led group\, will lead a volunteering event for Charities2Love at a high school to benefit children in foster care.  Beneficiaries:  Cards for Cubs and other nonprofits that serve foster children.
URL:https://charities2love.org/event/hearts-meets-hands-private-student-led-volunteer-event/
LOCATION:Texas
ORGANIZER;CN="Charities2Love":MAILTO:info@charities2love.org
END:VEVENT
END:VCALENDAR