BEGIN:VCALENDAR
VERSION:2.0
PRODID:-//Charities2Love - ECPv6.15.20//NONSGML v1.0//EN
CALSCALE:GREGORIAN
METHOD:PUBLISH
X-ORIGINAL-URL:https://charities2love.org
X-WR-CALDESC:Events for Charities2Love
REFRESH-INTERVAL;VALUE=DURATION:PT1H
X-Robots-Tag:noindex
X-PUBLISHED-TTL:PT1H
BEGIN:VTIMEZONE
TZID:America/Chicago
BEGIN:DAYLIGHT
TZOFFSETFROM:-0600
TZOFFSETTO:-0500
TZNAME:CDT
DTSTART:20240310T080000
END:DAYLIGHT
BEGIN:STANDARD
TZOFFSETFROM:-0500
TZOFFSETTO:-0600
TZNAME:CST
DTSTART:20241103T070000
END:STANDARD
BEGIN:DAYLIGHT
TZOFFSETFROM:-0600
TZOFFSETTO:-0500
TZNAME:CDT
DTSTART:20250309T080000
END:DAYLIGHT
BEGIN:STANDARD
TZOFFSETFROM:-0500
TZOFFSETTO:-0600
TZNAME:CST
DTSTART:20251102T070000
END:STANDARD
BEGIN:DAYLIGHT
TZOFFSETFROM:-0600
TZOFFSETTO:-0500
TZNAME:CDT
DTSTART:20260308T080000
END:DAYLIGHT
BEGIN:STANDARD
TZOFFSETFROM:-0500
TZOFFSETTO:-0600
TZNAME:CST
DTSTART:20261101T070000
END:STANDARD
END:VTIMEZONE
BEGIN:VEVENT
DTSTART;TZID=America/Chicago:20250726T100000
DTEND;TZID=America/Chicago:20250726T120000
DTSTAMP:20260425T081247
CREATED:20250214T173418Z
LAST-MODIFIED:20250812T204035Z
UID:45267-1753524000-1753531200@charities2love.org
SUMMARY:Backpack & School Supply Volunteer Event
DESCRIPTION:JOIN US to help fill backpacks with essential school supplies for under resourced children so they can have a successful school year!! \n\n\n\nCHARITY: Heart House\, Genesis Women’s Shelter\, Isaiah117 House\, and disadvantaged kids identified by local school counselors (thank you Kid’s Matter) \n\n\n\nWHY: To empower children from low income families and help them start their school year strong and confidently\, just like their peers!  Today’s kids are tomorrow’s leaders..we want to give ALL kids the tools to rise to their full potential! \n\n\n\nSERVICE HOURS: 2 service hours\, plus an extra hour if you come 30 minutes before and after to help set up/clean up. \n\n\n\nWHO:  All are welcome! Children are welcome with a parent/guardian; high school students may attend alone.  \n\n\n\nHow you can help: \n\n\n\n\nSign up and bring the items you have signed up for OR\n\n\n\nDonate towards the items and we will shop for you! (suggested $10)\n\n\n\nItem donation is optional!  We welcome your donation of time with or without items!
URL:https://charities2love.org/event/backpack-school-supply-volunteer-event/
LOCATION:Timmaron Bent Creek Neighborhood Center\, 1205 Bent Creek Drive\, Southlake\, Texas\, 76092\, United States
ATTACH;FMTTYPE=image/jpeg:https://charities2love.org/wp-content/uploads/2024/06/IMG_0035-1.jpg
ORGANIZER;CN="Charities2Love":MAILTO:info@charities2love.org
END:VEVENT
END:VCALENDAR