BEGIN:VCALENDAR
VERSION:2.0
PRODID:-//Charities2Love - ECPv6.15.20//NONSGML v1.0//EN
CALSCALE:GREGORIAN
METHOD:PUBLISH
X-WR-CALNAME:Charities2Love
X-ORIGINAL-URL:https://charities2love.org
X-WR-CALDESC:Events for Charities2Love
REFRESH-INTERVAL;VALUE=DURATION:PT1H
X-Robots-Tag:noindex
X-PUBLISHED-TTL:PT1H
BEGIN:VTIMEZONE
TZID:America/Chicago
BEGIN:DAYLIGHT
TZOFFSETFROM:-0600
TZOFFSETTO:-0500
TZNAME:CDT
DTSTART:20250309T080000
END:DAYLIGHT
BEGIN:STANDARD
TZOFFSETFROM:-0500
TZOFFSETTO:-0600
TZNAME:CST
DTSTART:20251102T070000
END:STANDARD
BEGIN:DAYLIGHT
TZOFFSETFROM:-0600
TZOFFSETTO:-0500
TZNAME:CDT
DTSTART:20260308T080000
END:DAYLIGHT
BEGIN:STANDARD
TZOFFSETFROM:-0500
TZOFFSETTO:-0600
TZNAME:CST
DTSTART:20261101T070000
END:STANDARD
BEGIN:DAYLIGHT
TZOFFSETFROM:-0600
TZOFFSETTO:-0500
TZNAME:CDT
DTSTART:20270314T080000
END:DAYLIGHT
BEGIN:STANDARD
TZOFFSETFROM:-0500
TZOFFSETTO:-0600
TZNAME:CST
DTSTART:20271107T070000
END:STANDARD
END:VTIMEZONE
BEGIN:VEVENT
DTSTART;TZID=America/Chicago:20260428T130000
DTEND;TZID=America/Chicago:20260428T150000
DTSTAMP:20260423T045534
CREATED:20260415T162421Z
LAST-MODIFIED:20260415T162428Z
UID:87876-1777381200-1777388400@charities2love.org
SUMMARY:AA PBJ Sandwich Making Event (Private\, Corporate Volunteer Event)
DESCRIPTION:A corporate volunteer event for an American Airlines Team to make peanut butter and jelly sandwiches for those experiencing homelessness. These will be shared to local nonprofits that support the unhoused in Dallas-Fort Worth.
URL:https://charities2love.org/event/aa-pbj-sandwich-making-event-private-corporate-volunteer-event/
LOCATION:American Airlines Corporate Headquarters\, 1 Skyview Drive\, Fort Worth\, Texas\, 76155\, United States
CATEGORIES:Homelessness
ORGANIZER;CN="Charities2Love":MAILTO:info@charities2love.org
END:VEVENT
BEGIN:VEVENT
DTSTART;TZID=America/Chicago:20260502T100000
DTEND;TZID=America/Chicago:20260502T100000
DTSTAMP:20260423T045534
CREATED:20260224T201540Z
LAST-MODIFIED:20260410T152110Z
UID:87637-1777716000-1777716000@charities2love.org
SUMMARY:People's Impact Network x Charities2Love: supporting children with cancer (private\, group event)
DESCRIPTION:An invite only volunteer event due to space constraints to support children and youth with cancer\, through Leukemia Texas.
URL:https://charities2love.org/event/leukemia-texas-x-charities2love-supporting-children-with-cancer/
LOCATION:People’s Impact Network\, 2961 McDermott Rd\, Plano\, Texas\, 75025\, United States
CATEGORIES:Children
ATTACH;FMTTYPE=image/png:https://charities2love.org/wp-content/uploads/2024/01/Screenshot-2024-01-30-at-11.25.29 AM.png
ORGANIZER;CN="Charities2Love":MAILTO:info@charities2love.org
END:VEVENT
BEGIN:VEVENT
DTSTART;TZID=America/Chicago:20260613T090000
DTEND;TZID=America/Chicago:20260613T110000
DTSTAMP:20260423T045534
CREATED:20260410T153446Z
LAST-MODIFIED:20260410T154939Z
UID:87827-1781341200-1781348400@charities2love.org
SUMMARY:Lend a Hand for Hunger Worldwide
DESCRIPTION:Volunteer for a short but impactful few hours at Feed My Starving Children (FMSC)! More information and details are on the signup. \n\n\n\nInformation for FMSC volunteering: \n\n\n\nNo jewelry\, including earrings and watches\, are allowed to maintain the safety of the food that is packed.  Read their full jewelry policy. \n\n\n\nMinimum age to volunteer is 5 years old; Children under 16 must have an adult guardian onsite. \n\n\n\nStudents will receive 2 service hours from Charities2Love \n\n\n\nWe will be joining other volunteers to prepare vegetarian food packs (called Manna Packs) for distribution to a network of partner organizations worldwide.  Learn more here.  \n\n\n\nPlease check any food allergy the volunteer may have here prior to signing up.
URL:https://charities2love.org/event/lend-a-hand-for-hunger-worlwide/
LOCATION:Feed My Starving Children (Richardson)\, 1680 N. Greenville Drive\, Suite 300\, Richardson\, Texas\, 75081\, United States
CATEGORIES:Hunger
ATTACH;FMTTYPE=image/jpeg:https://charities2love.org/wp-content/uploads/2024/09/img_1037-3-1.jpg
ORGANIZER;CN="Charities2Love":MAILTO:info@charities2love.org
END:VEVENT
BEGIN:VEVENT
DTSTART;TZID=America/Chicago:20260926T100000
DTEND;TZID=America/Chicago:20260926T120000
DTSTAMP:20260423T045534
CREATED:20260224T195946Z
LAST-MODIFIED:20260410T154749Z
UID:87630-1790416800-1790424000@charities2love.org
SUMMARY:Pause for a Cause\, in Memory of Hema Shah
DESCRIPTION:This year\, our Domestic Violence Awareness Month efforts are dedicated to Hema Shah\, our founder’s beloved cousin sister\, who was deeply committed to supporting those seeking safety and hope. \n\n\n\nHema lived with a heart full of compassion for all. While hers was a life lost too soon due to acute liver failure\, we choose to celebrate her passion by showing up for the cause she held dear. We invite you to honor her legacy through hands-on service and community action. Your time is the greatest tribute we can offer to her memory and to the survivors who need us most. \n\n\n\nCHARITY: Hagar’s Heart (HH) \n\n\n\nCAUSE:  Helping women in shelters who are survivors of domestic violence regain their self-worth by putting together “I SEE YOU” Boxes \n\n\n\nWHY:  The “I SEE YOU” Box is packed with specifically chosen self-care items to bring a message of: You are seen\, worthy\, loved\, and deserve a new beginning.  The I SEE YOU Box is delivered monthly to their domestic violence shelter partners throughout the DFW area. \n\n\n\nSERVICE HOURS: 2 service hours \n\n\n\nPlease sign up below to attend! Children are welcome with a parent/guardian; high school students may attend alone. 
URL:https://charities2love.org/event/hagars-heart-x-c2l-volunteer-event-for-domestic-violence-awareness-month-2/
LOCATION:Bent Creek Neighborhood Center\, 1240 Bent Creek Drive\, Southlake\, Texas\, 76092\, United States
CATEGORIES:Women
ATTACH;FMTTYPE=image/jpeg:https://charities2love.org/wp-content/uploads/2025/09/HH-Volunteer-2025-scaled.jpg
ORGANIZER;CN="Charities2Love":MAILTO:info@charities2love.org
END:VEVENT
END:VCALENDAR