BEGIN:VCALENDAR
VERSION:2.0
PRODID:-//Charities2Love - ECPv6.15.20//NONSGML v1.0//EN
CALSCALE:GREGORIAN
METHOD:PUBLISH
X-WR-CALNAME:Charities2Love
X-ORIGINAL-URL:https://charities2love.org
X-WR-CALDESC:Events for Charities2Love
REFRESH-INTERVAL;VALUE=DURATION:PT1H
X-Robots-Tag:noindex
X-PUBLISHED-TTL:PT1H
BEGIN:VTIMEZONE
TZID:America/Chicago
BEGIN:DAYLIGHT
TZOFFSETFROM:-0600
TZOFFSETTO:-0500
TZNAME:CDT
DTSTART:20240310T080000
END:DAYLIGHT
BEGIN:STANDARD
TZOFFSETFROM:-0500
TZOFFSETTO:-0600
TZNAME:CST
DTSTART:20241103T070000
END:STANDARD
BEGIN:DAYLIGHT
TZOFFSETFROM:-0600
TZOFFSETTO:-0500
TZNAME:CDT
DTSTART:20250309T080000
END:DAYLIGHT
BEGIN:STANDARD
TZOFFSETFROM:-0500
TZOFFSETTO:-0600
TZNAME:CST
DTSTART:20251102T070000
END:STANDARD
BEGIN:DAYLIGHT
TZOFFSETFROM:-0600
TZOFFSETTO:-0500
TZNAME:CDT
DTSTART:20260308T080000
END:DAYLIGHT
BEGIN:STANDARD
TZOFFSETFROM:-0500
TZOFFSETTO:-0600
TZNAME:CST
DTSTART:20261101T070000
END:STANDARD
END:VTIMEZONE
BEGIN:VEVENT
DTSTART;TZID=America/Chicago:20250517T100000
DTEND;TZID=America/Chicago:20250517T113000
DTSTAMP:20260425T095956
CREATED:20250421T193829Z
LAST-MODIFIED:20250812T204642Z
UID:61205-1747476000-1747481400@charities2love.org
SUMMARY:Family Service Day at Austin Street Center
DESCRIPTION:We will be joining others for a Family Service Day at Austin Street Center\, a large homeless shelter in downtown Dallas!  Here is a message from Austin Street Center:  \n\n\n\nBring your family and join us at Austin Street Center for a day of community\, creativity\, and hands-on service! Family Service Day is all about coming together to make a positive impact while having fun. Whether you’re cleaning up the neighborhood\, adding beauty to our garden\, or creating thoughtful outreach kits\, there’s something for everyone to enjoy. \n\n\n\n*All ages are welcome\, so bring your enthusiasm and a willingness to make a difference!*. Details are in the signup below: \n\n\n\nhttps://www.signupgenius.com/go/10C084CA4AC2EA6F5CF8-56333893-family#
URL:https://charities2love.org/event/family-service-day-at-austin-street-center/
LOCATION:Austin Street Center’s New Hope Garden\, 1718 jeffries street\, Dallas\, Texas\, 75226
ATTACH;FMTTYPE=image/jpeg:https://charities2love.org/wp-content/uploads/2023/07/ASC-logo-stacked.jpg
ORGANIZER;CN="Charities2Love":MAILTO:info@charities2love.org
END:VEVENT
BEGIN:VEVENT
DTSTART;TZID=America/Chicago:20250419T103000
DTEND;TZID=America/Chicago:20250419T123000
DTSTAMP:20260425T095956
CREATED:20250128T203214Z
LAST-MODIFIED:20250812T204842Z
UID:41114-1745058600-1745065800@charities2love.org
SUMMARY:Color Me SAFE Foundation x C2L Volunteer Event for Child Abuse Prevention Month
DESCRIPTION:A SPECIAL COLLABORATION BETWEEN COLOR ME SAFE FOUNDATION  AND CHARITIES2LOVE TO VOLUNTEER FOR\, SUPPORT\, AND BRING AWARENESS TO CHILD ABUSE PREVENTION MONTH!! \n\n\n\n\n\n\n\nCharities Supported:  Heart House\, New Horizons of North Texas\, Jonathan’s Place\, Isaiah117House\, Cards for Cubs\, and CASA of Tarrant County \n\n\n\nCAUSE:  Children 13 and under in crisis: in foster care\, refugees\, immigrants\, under-resourced. \n\n\n\nWHY:  We will make “Hugs of Hope” Bags to bring a smile and send love to children placed in difficult situations\, through no fault of their own. \n\n\n\nSERVICE HOURS: 2 service hours\, plus an extra hour if you come 30 minutes before and after to help set up/clean up. \n\n\n\nChildren are welcome with a parent/guardian; high school students may attend alone.  \n\n\n\nPlease sign up below to attend & bring items. C2L and CMS Foundation will provide the bags – WE NEED YOUR HELP to fill them!
URL:https://charities2love.org/event/color-me-safe-foundation-x-c2l-volunteer-event-for-child-abuse-prevention-month/
LOCATION:Cozby Library and Community Commons\, 177 N. Heartz Road\, Coppell\, TX\, 75019\, United States
CATEGORIES:Children
ATTACH;FMTTYPE=image/jpeg:https://charities2love.org/wp-content/uploads/2025/02/CMS-Social-Feb2025-Post-5jpg.jpg
END:VEVENT
BEGIN:VEVENT
DTSTART;TZID=America/Chicago:20250301T173000
DTEND;TZID=America/Chicago:20250301T190000
DTSTAMP:20260425T095956
CREATED:20250214T172626Z
LAST-MODIFIED:20250812T205100Z
UID:45260-1740850200-1740855600@charities2love.org
SUMMARY:Serve Dinner at a Homeless Shelter
DESCRIPTION:This is an opportunity for 18+ with very limited slots!  \n\n\n\nLet’s volunteer together to serve dinner at the Second Chance Cafe run by The Stewpot for The Bridge Homeless Recover\, homeless shelters in Downtown Dallas.   \n\n\n\nVisit the signup for details.
URL:https://charities2love.org/event/serve-dinner-at-a-homeless-shelter/
LOCATION:The Second Chance Cafe\, 1818 Corsicana St.\, Dallas\, Texas\, 75021\, United States
ATTACH;FMTTYPE=image/png:https://charities2love.org/wp-content/uploads/2025/02/Screenshot-2025-02-14-at-11.25.33 AM.png
ORGANIZER;CN="Charities2Love":MAILTO:info@charities2love.org
END:VEVENT
BEGIN:VEVENT
DTSTART;TZID=America/Chicago:20250228T160000
DTEND;TZID=America/Chicago:20250228T180000
DTSTAMP:20260425T095956
CREATED:20250226T153351Z
LAST-MODIFIED:20250226T153354Z
UID:48336-1740758400-1740765600@charities2love.org
SUMMARY:Hearts Meets Hands (Private\, Student-Led Volunteer Event)
DESCRIPTION:Hearts Meets Hands\, a student-led group\, will lead a volunteering event for Charities2Love at a high school to benefit children in foster care.  Beneficiaries:  Cards for Cubs and other nonprofits that serve foster children.
URL:https://charities2love.org/event/hearts-meets-hands-private-student-led-volunteer-event/
LOCATION:Texas
ORGANIZER;CN="Charities2Love":MAILTO:info@charities2love.org
END:VEVENT
BEGIN:VEVENT
DTSTART;TZID=America/Chicago:20250227T133000
DTEND;TZID=America/Chicago:20250227T153000
DTSTAMP:20260425T095956
CREATED:20250128T202351Z
LAST-MODIFIED:20250128T202356Z
UID:41107-1740663000-1740670200@charities2love.org
SUMMARY:Granite Properties (Private\, Corporate Volunteer Event)
DESCRIPTION:A corporate volunteer event for the employees of Granite Properties to make peanut butter and jelly sandwiches for those experiencing homelessness. \n\n\n\nItems will be distributed to Austin Street Center\, a homeless shelter in Dallas. \n\n\n\nContact us to schedule your corporate event.
URL:https://charities2love.org/event/granite-properties-private-corporate-volunteer-event/
LOCATION:Texas
CATEGORIES:Homelessness
END:VEVENT
BEGIN:VEVENT
DTSTART;TZID=America/Chicago:20250201T103000
DTEND;TZID=America/Chicago:20250201T123000
DTSTAMP:20260425T095956
CREATED:20250110T022238Z
LAST-MODIFIED:20250812T205220Z
UID:36756-1738405800-1738413000@charities2love.org
SUMMARY:Winter Care Packages for the Homeless: Join Us!
DESCRIPTION:Let’s make Winter Care Packages and Snack Bags for the Unhoused \n\n\n\nCHARITY: Distributed to many local nonprofits that serve those experiencing homelessness. \n\n\n\nWHY: Provide warmth and kindness to those experiencing homelessness.  \n\n\n\nWHO: All ages. Children are welcome with a parent/guardian; high school students may attend alone. \n\n\n\nWHEN: 10:30am – 12:30pm \n\n\n\nSERVICE HOURS: 2 service hours\, plus an extra hour if you come 30 minutes before & after for set up/clean up. \n\n\n\n In this volunteering you will: \n\n\n\n\nMake a care package that includes:  a pair of gloves\, beanie\, socks\, a blanket\, hand warmers\, toiletries\, a note\, and hand sanitizer.\n\n\n\nMake snack bags with several snacks\, a note and a drink\n\n\n\nWrite out handwritten notes to add to our care packages and snack bags.\n\n\n\nLearn about the nonprofits that support the unhoused and how you can support them\n\n\n\nEach family can take a care package to distribute to an unhoused neighbor you may see\n\n\n\n\nOther Ways You Can Support this Event (optional): \n\n\n\n\nBring some shelf-stable snacks/water bottles to add to the snack bags. \n\n\n\nSponsor a care package for $15!  For each package you sponsor\, you will receive a raffle ticket which will be entered into a drawing for prizes (must be present to win).\n\nZelle your cash donation to us (donation@charities2love.org) or purchase raffle tickets by credit card \n\n\n\nYour donation is tax deductible!  Please send an email to us if you would like a receipt.\n\n\n\n\n\nSponsor one of the items for all of the care packages (blankets/hats/gloves\, etc.)– please contact us.\n\n\n\n\n**Please wear your Charities2Love Shirt if you have one!  Additional shirts are available for a $10 donation** \n\n\n\nThank you for your generosity for those experiencing homelessness who will use and appreciate your gift of time and donations during the brutal winter months! 
URL:https://charities2love.org/event/winter-care-packages-for-the-homeless-join-us/
LOCATION:Cozby Library and Community Commons\, 177 N. Heartz Road\, Coppell\, TX\, 75019\, United States
CATEGORIES:Homelessness
ATTACH;FMTTYPE=image/jpeg:https://charities2love.org/wp-content/uploads/2024/11/Snack-Bag2.jpg
ORGANIZER;CN="Charities2Love":MAILTO:info@charities2love.org
END:VEVENT
BEGIN:VEVENT
DTSTART;TZID=America/Chicago:20250123T120000
DTEND;TZID=America/Chicago:20250123T133000
DTSTAMP:20260425T095956
CREATED:20250121T174201Z
LAST-MODIFIED:20260415T162817Z
UID:39426-1737633600-1737639000@charities2love.org
SUMMARY:AA IEBRG (Private\, Corporate Volunteer Event)
DESCRIPTION:A corporate volunteer event for the American Airlines Indian Employee Business Resource Group (AA IEBRG) to make 1\,200 peanut butter and jelly sandwiches and collect shelf-stable snacks for those experiencing homelessness.   \n\n\n\nItems will be distributed to Austin Street Center\, a homeless shelter in Dallas. \n\n\n\nContact us to schedule your corporate event.
URL:https://charities2love.org/event/aa-iebrg-private-corporate-volunteer-event/
LOCATION:American Airlines Corporate Headquarters\, 1 Skyview Drive\, Fort Worth\, Texas\, 76155\, United States
CATEGORIES:Homelessness
ORGANIZER;CN="Charities2Love":MAILTO:info@charities2love.org
END:VEVENT
BEGIN:VEVENT
DTSTART;TZID=America/Chicago:20250120T111500
DTEND;TZID=America/Chicago:20250120T133000
DTSTAMP:20260425T095956
CREATED:20250110T012924Z
LAST-MODIFIED:20250812T205341Z
UID:36653-1737371700-1737379800@charities2love.org
SUMMARY:Volunteer for Hunger on MLK Day 2025
DESCRIPTION:Let’s start 2025 and lend a hand for hunger! Volunteer on MLK National Public Day of Service for a short but impactful few hours at Feed My Starving Children (FMSC)! More information and details are on the signup. \n\n\n\nInformation for FMSC volunteering: \n\n\n\n\nMinimum age to volunteer is 5 years old\n\n\n\nStudents will receive 2 service hours from Charities2Love\n\n\n\nWe will be joining other volunteers to prepare vegetarian food packs (called Manna Packs) for distribution to a network of partner organizations worldwide.  Learn more here. \n\n\n\nPlease check any food allergy the volunteer may have here prior to signing up.\n\n\n\nNo jewelry\, including earrings and watches\, are allowed to maintain the safety of the food that is packed.  Read their full jewelry policy.
URL:https://charities2love.org/event/volunteer-for-hunger-on-mlk-day-2025/
LOCATION:Feed My Starving Children (Richardson)\, 1680 N. Greenville Drive\, Suite 300\, Richardson\, Texas\, 75081\, United States
CATEGORIES:Hunger
ATTACH;FMTTYPE=image/jpeg:https://charities2love.org/wp-content/uploads/2024/09/img_1037-3-1.jpg
ORGANIZER;CN="Charities2Love":MAILTO:info@charities2love.org
END:VEVENT
END:VCALENDAR