BEGIN:VCALENDAR
VERSION:2.0
PRODID:-//Charities2Love - ECPv6.15.20//NONSGML v1.0//EN
CALSCALE:GREGORIAN
METHOD:PUBLISH
X-WR-CALNAME:Charities2Love
X-ORIGINAL-URL:https://charities2love.org
X-WR-CALDESC:Events for Charities2Love
REFRESH-INTERVAL;VALUE=DURATION:PT1H
X-Robots-Tag:noindex
X-PUBLISHED-TTL:PT1H
BEGIN:VTIMEZONE
TZID:America/Chicago
BEGIN:DAYLIGHT
TZOFFSETFROM:-0600
TZOFFSETTO:-0500
TZNAME:CDT
DTSTART:20240310T080000
END:DAYLIGHT
BEGIN:STANDARD
TZOFFSETFROM:-0500
TZOFFSETTO:-0600
TZNAME:CST
DTSTART:20241103T070000
END:STANDARD
BEGIN:DAYLIGHT
TZOFFSETFROM:-0600
TZOFFSETTO:-0500
TZNAME:CDT
DTSTART:20250309T080000
END:DAYLIGHT
BEGIN:STANDARD
TZOFFSETFROM:-0500
TZOFFSETTO:-0600
TZNAME:CST
DTSTART:20251102T070000
END:STANDARD
BEGIN:DAYLIGHT
TZOFFSETFROM:-0600
TZOFFSETTO:-0500
TZNAME:CDT
DTSTART:20260308T080000
END:DAYLIGHT
BEGIN:STANDARD
TZOFFSETFROM:-0500
TZOFFSETTO:-0600
TZNAME:CST
DTSTART:20261101T070000
END:STANDARD
END:VTIMEZONE
BEGIN:VEVENT
DTSTART;TZID=America/Chicago:20250120T111500
DTEND;TZID=America/Chicago:20250120T133000
DTSTAMP:20260425T065354
CREATED:20250110T012924Z
LAST-MODIFIED:20250812T205341Z
UID:36653-1737371700-1737379800@charities2love.org
SUMMARY:Volunteer for Hunger on MLK Day 2025
DESCRIPTION:Let’s start 2025 and lend a hand for hunger! Volunteer on MLK National Public Day of Service for a short but impactful few hours at Feed My Starving Children (FMSC)! More information and details are on the signup. \n\n\n\nInformation for FMSC volunteering: \n\n\n\n\nMinimum age to volunteer is 5 years old\n\n\n\nStudents will receive 2 service hours from Charities2Love\n\n\n\nWe will be joining other volunteers to prepare vegetarian food packs (called Manna Packs) for distribution to a network of partner organizations worldwide.  Learn more here. \n\n\n\nPlease check any food allergy the volunteer may have here prior to signing up.\n\n\n\nNo jewelry\, including earrings and watches\, are allowed to maintain the safety of the food that is packed.  Read their full jewelry policy.
URL:https://charities2love.org/event/volunteer-for-hunger-on-mlk-day-2025/
LOCATION:Feed My Starving Children (Richardson)\, 1680 N. Greenville Drive\, Suite 300\, Richardson\, Texas\, 75081\, United States
CATEGORIES:Hunger
ATTACH;FMTTYPE=image/jpeg:https://charities2love.org/wp-content/uploads/2024/09/img_1037-3-1.jpg
ORGANIZER;CN="Charities2Love":MAILTO:info@charities2love.org
END:VEVENT
END:VCALENDAR