BEGIN:VCALENDAR
VERSION:2.0
PRODID:-//Charities2Love - ECPv6.15.20//NONSGML v1.0//EN
CALSCALE:GREGORIAN
METHOD:PUBLISH
X-ORIGINAL-URL:https://charities2love.org
X-WR-CALDESC:Events for Charities2Love
REFRESH-INTERVAL;VALUE=DURATION:PT1H
X-Robots-Tag:noindex
X-PUBLISHED-TTL:PT1H
BEGIN:VTIMEZONE
TZID:America/Chicago
BEGIN:DAYLIGHT
TZOFFSETFROM:-0600
TZOFFSETTO:-0500
TZNAME:CDT
DTSTART:20240310T080000
END:DAYLIGHT
BEGIN:STANDARD
TZOFFSETFROM:-0500
TZOFFSETTO:-0600
TZNAME:CST
DTSTART:20241103T070000
END:STANDARD
BEGIN:DAYLIGHT
TZOFFSETFROM:-0600
TZOFFSETTO:-0500
TZNAME:CDT
DTSTART:20250309T080000
END:DAYLIGHT
BEGIN:STANDARD
TZOFFSETFROM:-0500
TZOFFSETTO:-0600
TZNAME:CST
DTSTART:20251102T070000
END:STANDARD
BEGIN:DAYLIGHT
TZOFFSETFROM:-0600
TZOFFSETTO:-0500
TZNAME:CDT
DTSTART:20260308T080000
END:DAYLIGHT
BEGIN:STANDARD
TZOFFSETFROM:-0500
TZOFFSETTO:-0600
TZNAME:CST
DTSTART:20261101T070000
END:STANDARD
END:VTIMEZONE
BEGIN:VEVENT
DTSTART;TZID=America/Chicago:20250419T103000
DTEND;TZID=America/Chicago:20250419T123000
DTSTAMP:20260425T112707
CREATED:20250128T203214Z
LAST-MODIFIED:20250812T204842Z
UID:41114-1745058600-1745065800@charities2love.org
SUMMARY:Color Me SAFE Foundation x C2L Volunteer Event for Child Abuse Prevention Month
DESCRIPTION:A SPECIAL COLLABORATION BETWEEN COLOR ME SAFE FOUNDATION  AND CHARITIES2LOVE TO VOLUNTEER FOR\, SUPPORT\, AND BRING AWARENESS TO CHILD ABUSE PREVENTION MONTH!! \n\n\n\n\n\n\n\nCharities Supported:  Heart House\, New Horizons of North Texas\, Jonathan’s Place\, Isaiah117House\, Cards for Cubs\, and CASA of Tarrant County \n\n\n\nCAUSE:  Children 13 and under in crisis: in foster care\, refugees\, immigrants\, under-resourced. \n\n\n\nWHY:  We will make “Hugs of Hope” Bags to bring a smile and send love to children placed in difficult situations\, through no fault of their own. \n\n\n\nSERVICE HOURS: 2 service hours\, plus an extra hour if you come 30 minutes before and after to help set up/clean up. \n\n\n\nChildren are welcome with a parent/guardian; high school students may attend alone.  \n\n\n\nPlease sign up below to attend & bring items. C2L and CMS Foundation will provide the bags – WE NEED YOUR HELP to fill them!
URL:https://charities2love.org/event/color-me-safe-foundation-x-c2l-volunteer-event-for-child-abuse-prevention-month/
LOCATION:Cozby Library and Community Commons\, 177 N. Heartz Road\, Coppell\, TX\, 75019\, United States
CATEGORIES:Children
ATTACH;FMTTYPE=image/jpeg:https://charities2love.org/wp-content/uploads/2025/02/CMS-Social-Feb2025-Post-5jpg.jpg
END:VEVENT
END:VCALENDAR