BEGIN:VCALENDAR
VERSION:2.0
PRODID:-//Charities2Love - ECPv6.15.20//NONSGML v1.0//EN
CALSCALE:GREGORIAN
METHOD:PUBLISH
X-ORIGINAL-URL:https://charities2love.org
X-WR-CALDESC:Events for Charities2Love
REFRESH-INTERVAL;VALUE=DURATION:PT1H
X-Robots-Tag:noindex
X-PUBLISHED-TTL:PT1H
BEGIN:VTIMEZONE
TZID:America/Chicago
BEGIN:DAYLIGHT
TZOFFSETFROM:-0600
TZOFFSETTO:-0500
TZNAME:CDT
DTSTART:20240310T080000
END:DAYLIGHT
BEGIN:STANDARD
TZOFFSETFROM:-0500
TZOFFSETTO:-0600
TZNAME:CST
DTSTART:20241103T070000
END:STANDARD
BEGIN:DAYLIGHT
TZOFFSETFROM:-0600
TZOFFSETTO:-0500
TZNAME:CDT
DTSTART:20250309T080000
END:DAYLIGHT
BEGIN:STANDARD
TZOFFSETFROM:-0500
TZOFFSETTO:-0600
TZNAME:CST
DTSTART:20251102T070000
END:STANDARD
BEGIN:DAYLIGHT
TZOFFSETFROM:-0600
TZOFFSETTO:-0500
TZNAME:CDT
DTSTART:20260308T080000
END:DAYLIGHT
BEGIN:STANDARD
TZOFFSETFROM:-0500
TZOFFSETTO:-0600
TZNAME:CST
DTSTART:20261101T070000
END:STANDARD
END:VTIMEZONE
BEGIN:VEVENT
DTSTART;TZID=America/Chicago:20251201T080000
DTEND;TZID=America/Chicago:20251201T170000
DTSTAMP:20260424T220123
CREATED:20250902T200609Z
LAST-MODIFIED:20251223T201722Z
UID:86683-1764576000-1764608400@charities2love.org
SUMMARY:Delivering Baskets of Cheer:  Dec 1st - 15th
DESCRIPTION:From December 1 – December 15\, we will be needing volunteers to deliver a pre-made Basket of Cheer and pantry staples to a senior’s home in the Hurst-Euless-Bedford area.  Deliver the baskets and visit with the seniors during this holiday season. The seniors will be assigned to us by Serving Our Seniors. \n\n\n\nCharities2Love will help coordinate the date that works for you and the senior to drop off and visit with them.  See the details on the signup.  \n\n\n\nA cherished volunteer opportunity that is a favorite with families!
URL:https://charities2love.org/event/delivering-baskets-of-cheer-save-the-date/
LOCATION:TBD per Serving Our Seniors\, Hurst-Euless-Bedford Areas\, Texas\, 76022
ATTACH;FMTTYPE=image/jpeg:https://charities2love.org/wp-content/uploads/2024/12/SoniyaPrabnit-SOS.jpg
ORGANIZER;CN="Charities2Love":MAILTO:info@charities2love.org
END:VEVENT
END:VCALENDAR