BEGIN:VCALENDAR
VERSION:2.0
PRODID:-//Charities2Love - ECPv6.15.20//NONSGML v1.0//EN
CALSCALE:GREGORIAN
METHOD:PUBLISH
X-WR-CALNAME:Charities2Love
X-ORIGINAL-URL:https://charities2love.org
X-WR-CALDESC:Events for Charities2Love
REFRESH-INTERVAL;VALUE=DURATION:PT1H
X-Robots-Tag:noindex
X-PUBLISHED-TTL:PT1H
BEGIN:VTIMEZONE
TZID:America/Chicago
BEGIN:DAYLIGHT
TZOFFSETFROM:-0600
TZOFFSETTO:-0500
TZNAME:CDT
DTSTART:20250309T080000
END:DAYLIGHT
BEGIN:STANDARD
TZOFFSETFROM:-0500
TZOFFSETTO:-0600
TZNAME:CST
DTSTART:20251102T070000
END:STANDARD
BEGIN:DAYLIGHT
TZOFFSETFROM:-0600
TZOFFSETTO:-0500
TZNAME:CDT
DTSTART:20260308T080000
END:DAYLIGHT
BEGIN:STANDARD
TZOFFSETFROM:-0500
TZOFFSETTO:-0600
TZNAME:CST
DTSTART:20261101T070000
END:STANDARD
BEGIN:DAYLIGHT
TZOFFSETFROM:-0600
TZOFFSETTO:-0500
TZNAME:CDT
DTSTART:20270314T080000
END:DAYLIGHT
BEGIN:STANDARD
TZOFFSETFROM:-0500
TZOFFSETTO:-0600
TZNAME:CST
DTSTART:20271107T070000
END:STANDARD
END:VTIMEZONE
BEGIN:VEVENT
DTSTART;TZID=America/Chicago:20260204T120000
DTEND;TZID=America/Chicago:20260204T140000
DTSTAMP:20260424T180806
CREATED:20260108T211920Z
LAST-MODIFIED:20260410T150810Z
UID:87384-1770206400-1770213600@charities2love.org
SUMMARY:AA IEBRG 2026(Private\, Corporate Volunteer Event)
DESCRIPTION:A corporate volunteer event for the American Airlines Indian Employee Business Resource Group (AA IEBRG) to make 1\,500 peanut butter and jelly sandwiches for those experiencing homelessness. These will be shared to local nonprofits that support the unhoused in Dallas-Fort Worth.
URL:https://charities2love.org/event/aa-iebrg-2026/
LOCATION:American Airlines Corporate Headquarters\, 1 Skyview Drive\, Fort Worth\, Texas\, 76155\, United States
ORGANIZER;CN="Charities2Love":MAILTO:info@charities2love.org
END:VEVENT
BEGIN:VEVENT
DTSTART;TZID=America/Chicago:20260221T090000
DTEND;TZID=America/Chicago:20260221T110000
DTSTAMP:20260424T180806
CREATED:20250910T155608Z
LAST-MODIFIED:20250910T155614Z
UID:86747-1771664400-1771671600@charities2love.org
SUMMARY:Lend a Hand for Hunger Worldwide
DESCRIPTION:Let’s serve for a short but impactful few hours at Feed My Starving Children (FMSC)! More information and details are on the signup. \n\n\n\nInformation for FMSC volunteering: \n\n\n\nNo jewelry\, including earrings and watches\, are allowed to maintain the safety of the food that is packed.  Read their full jewelry policy. \n\n\n\nMinimum age to volunteer is 5 years old; Children under 16 must have an adult guardian onsite. \n\n\n\nStudents will receive 2 service hours from Charities2Love \n\n\n\nWe will be joining other volunteers to prepare vegetarian food packs (called Manna Packs) for distribution to a network of partner organizations worldwide.  Learn more here.  \n\n\n\nPlease check any food allergy the volunteer may have here prior to signing up.
URL:https://charities2love.org/event/lend-a-hand-for-hunger-worldwide/
LOCATION:Feed My Starving Children (Richardson)\, 1680 N. Greenville Drive\, Suite 300\, Richardson\, Texas\, 75081\, United States
CATEGORIES:Hunger
ATTACH;FMTTYPE=image/jpeg:https://charities2love.org/wp-content/uploads/2024/09/img_1037-3-1.jpg
ORGANIZER;CN="Charities2Love":MAILTO:info@charities2love.org
END:VEVENT
END:VCALENDAR